BEGIN:VCALENDAR
VERSION:2.0
PRODID:-//CERES - ECPv6.6.1//NONSGML v1.0//EN
CALSCALE:GREGORIAN
METHOD:PUBLISH
X-WR-CALNAME:CERES
X-ORIGINAL-URL:https://ceresonline.com.br
X-WR-CALDESC:Eventos para CERES
REFRESH-INTERVAL;VALUE=DURATION:PT1H
X-Robots-Tag:noindex
X-PUBLISHED-TTL:PT1H
BEGIN:VTIMEZONE
TZID:America/Sao_Paulo
BEGIN:STANDARD
TZOFFSETFROM:-0300
TZOFFSETTO:-0300
TZNAME:-03
DTSTART:20240101T000000
END:STANDARD
END:VTIMEZONE
BEGIN:VEVENT
DTSTART;TZID=America/Sao_Paulo:20240603T193000
DTEND;TZID=America/Sao_Paulo:20240603T213000
DTSTAMP:20260420T052719
CREATED:20240710T035031Z
LAST-MODIFIED:20240713T221008Z
UID:2035-1717443000-1717450200@ceresonline.com.br
SUMMARY:Empresa Prime - Time de Alta Performance em Excelência & Produtividade
DESCRIPTION:Empresa Prime é sinônimo de qualidade superior\, serviço excepcional e resultados extraordinários. \nÉ um selo de distinção que inspira confiança nos clientes\, atrai os melhores talentos e solidifica sua posição como líder do setor. \n\nhttps://ceresonline.com.br/wp-content/uploads/2024/07/Video-Aly-Empresa-Prime.mp4\n  \nCapacite sua Empresa para se Tornar Prime \nNo mundo empresarial competitivo de hoje\, cada vantagem conta. Imagine sua empresa não apenas atingindo metas\, mas superando-as consistentemente. \nVisualize um time coeso\, ágil e altamente eficiente\, impulsionando a excelência em cada aspecto de suas operações. Bem-vindo ao conceito de uma Empresa Prime. \nBase de uma Empresa Prime \nPara alcançar o patamar de excelência e produtividade\, é essencial investir no seu recurso mais valioso: seu TIME. \nUm Time de Alta Performance é o alicerce de uma Empresa Prime. \nÉ por isso que esse treinamento foi projetado para transformar sua equipe em uma força imparável\, impulsionando a excelência e a produtividade em todos os níveis da organização. \nAo participar deste treinamento\, sua equipe será capacitada a: \nExcelência: Cultivar uma mentalidade de excelência\, buscando constantemente o aprimoramento pessoal e profissional. \nCompetitividade: Dominar técnicas de gestão do tempo e priorização de tarefas\, aumentando significativamente a eficiência e a produtividade. \nEngajamento e motivação: Aprimorar habilidades de comunicação e colaboração\, fortalecendo os laços dentro da equipe e promovendo um ambiente de trabalho harmonioso e engajado. \nAumento da eficácia coletiva: Alinhar-se com a visão e os valores da empresa\, transformando-os em motores impulsionadores de ação e inovação. \nSeu Mentor Aly Baddauhy \nAdministrador de empresas\, estudioso do comportamento humano\, acredita que o fator isolado mais importante para o sucesso ou o fracasso empresarial está na qualidade das pessoas. \nNão existe profissional melhor\, existe sim um ser humano melhor. \nDesde 1993 atua com desenvolvimento de pessoas\, nas áreas: comportamental\, liderança\, vendas\, negociação\, finanças pessoais e Coach. Fundador da Business Center\, uma das mais conceituadas empresas de treinamento do Brasil. \nCRIADOR DOS TREINAMENTOS: O Fator Resultado; O Poder da Escolha; Atitude – Vencedores e Perdedores; Gestão de Conflitos; Atitude – Um ciclo para o Sucesso; Excelência em Ação; Projeto Liderança; Liderança LGC – Liderança para Gerentes Comerciais; O que é vender no mundo de hoje; Finanças Pessoais – Desenvolvendo inteligência financeira; Atendimento e Vendas – A diferença que dá lucro; VNF –Vendas\, Negociação e Fechamento; Negociação Prática. \n  \nTópicos do Treinamento\nMódulo 01 \n\nOnde está o problema?\nO profissional do século XXI.\nAs quatro dimensões do trabalho.\nA ciência do sucesso.\nOnde está a limitação?\n\nMódulo 02 \n\nO Fator Humano.\nO triângulo da excelência.\nAs ferrugens da vida.\nHorizonte temporal.\nDa visão sistêmica ao resultado prático.\n\nMódulo 03 \n\nEstímulos e respostas.\nO poder da escolha.\nComunicação: Nosso grande desafio.\nInsatisfação positiva.\nTemperança\, resiliência e estofo.\n\nMódulo 04 \n\nTrabalho em equipe.\nGrandes equipes X Equipes medíocres;\nBalança emocional.\nA semente da grandeza.\nA filosofia dos vencedores.
URL:https://ceresonline.com.br/agenda/empresa-prime-time-de-alta-performance-em-excelencia-produtividade/
LOCATION:On-line Ao vivo
ATTACH;FMTTYPE=image/jpeg:https://ceresonline.com.br/wp-content/uploads/2024/07/Banner-Home-04-v2-R.jpg
ORGANIZER;CN="CERES":MAILTO:ceres@ceresonline.com.br
END:VEVENT
END:VCALENDAR