BEGIN:VCALENDAR
VERSION:2.0
PRODID:-//CERES - ECPv6.6.1//NONSGML v1.0//EN
CALSCALE:GREGORIAN
METHOD:PUBLISH
X-WR-CALNAME:CERES
X-ORIGINAL-URL:https://ceresonline.com.br
X-WR-CALDESC:Eventos para CERES
REFRESH-INTERVAL;VALUE=DURATION:PT1H
X-Robots-Tag:noindex
X-PUBLISHED-TTL:PT1H
BEGIN:VTIMEZONE
TZID:America/Sao_Paulo
BEGIN:STANDARD
TZOFFSETFROM:-0300
TZOFFSETTO:-0300
TZNAME:-03
DTSTART:20240101T000000
END:STANDARD
END:VTIMEZONE
BEGIN:VEVENT
DTSTART;TZID=America/Sao_Paulo:20240401T193000
DTEND;TZID=America/Sao_Paulo:20240401T213000
DTSTAMP:20260420T080542
CREATED:20240710T030542Z
LAST-MODIFIED:20240713T221024Z
UID:2031-1711999800-1712007000@ceresonline.com.br
SUMMARY:Como Fechar Mais Vendas Pelo WhatsApp
DESCRIPTION:Como FECHAR mais Vendas pelo WhatsApp  \nTREINAMENTO: ONLINE AO VIVO \n\nhttps://ceresonline.com.br/wp-content/uploads/2024/07/Video-Jeremias-Como-Fechar-mais-Vendas-pelo-WhatsApp.mp4\nCansado de perder vendas no WhatsApp?\nNeste treinamento online ao vivo\, você vai aprender tudo o que precisa para vender mais e fechar mais negócios com essa ferramenta poderosa. \nConteúdo imperdível: \n\nQuais erros não cometer em uma venda pelo WhatsApp;\nComo desenvolver inteligência e controle emocional para vender pelo WhatsApp;\nComo criar conexão com o cliente e não atender de forma fria em uma venda no WhatsApp;\nComo apresentar produto/serviço criando valor e desejo;\nComo apresentar e falar de preço no WhatsApp;\nConceitos de negociação;\nQuais as 4 objeções mais recebidas no WhatsApp e como lidar com cada uma delas;\nComo fazer o fechamento de uma forma que o cliente queira comprar;\nComo fazer um pós vendas e manter o relacionamento para compras futuras.\n\nQuem é Jeremias Oberherr? \nÉ empresário\, palestrante internacional especialista em vendas\, com mais de 1.100 eventos corporativos realizados. \nMentor dos treinamentos: “Virando o Jogo”\, “Máquina de Indicação”\, “Fechamento de Vendas”\, “Negociação Fechamento de Vendas” e “Como Fechar vendas pelo WhatsApp”. \nAutor de 7 livros e reconhecido como uma das maiores referências no Brasil em Negociação e Fechamento de Vendas.
URL:https://ceresonline.com.br/agenda/como-fechar-mais-vendas-pelo-whatsapp/
LOCATION:On-line Ao vivo
ATTACH;FMTTYPE=image/jpeg:https://ceresonline.com.br/wp-content/uploads/2024/07/Banner-Home-02-v2-R-1.jpg
ORGANIZER;CN="CERES":MAILTO:ceres@ceresonline.com.br
END:VEVENT
END:VCALENDAR